BEGIN:VCALENDAR
VERSION:2.0
PRODID:-//Linda Thomas - ECPv5.12.2//NONSGML v1.0//EN
CALSCALE:GREGORIAN
METHOD:PUBLISH
X-WR-CALNAME:Linda Thomas
X-ORIGINAL-URL:https://schmetterling.lindathomas.org
X-WR-CALDESC:Veranstaltungen für Linda Thomas
REFRESH-INTERVAL;VALUE=DURATION:PT1H
X-Robots-Tag:noindex
X-PUBLISHED-TTL:PT1H
BEGIN:VTIMEZONE
TZID:UTC
BEGIN:STANDARD
TZOFFSETFROM:+0000
TZOFFSETTO:+0000
TZNAME:UTC
DTSTART:20220101T000000
END:STANDARD
END:VTIMEZONE
BEGIN:VEVENT
DTSTART;TZID=UTC:20220225T193000
DTEND;TZID=UTC:20220227T143000
DTSTAMP:20260423T221740
CREATED:20220201T150051Z
LAST-MODIFIED:20220201T150156Z
UID:4780-1645817400-1645972200@schmetterling.lindathomas.org
SUMMARY:Ordnung schaffen - Reinigen - Verwandeln
DESCRIPTION:Freitag\, 19.30 Uhr – Öffentlicher Vortrag: \nPutzen als Weg\nLinda Thomas wagt es\, den profanen Alltag in seine eigentliche Bedeutung einzusetzen\, das heisst ihn zu heiligen. Durch Putzen lernt man Geduld\, Rhythmus\, Achtsamkeit\, Wahrnehmung\, Zuwendung\, Durchhaltekraft\, Eigenverantwortung. Raumpflege als Form der praktischen Spiritualität. \nSeminar zu Fragen einer Putzkultur\nInhalt: Ohne Ordnung zu schaffen\, können wird nicht reinigen. Während der Reinigung verbindet sich die menschliche Fürsorge bedingungslos mit der Materie und verwandelt sie. Dadurch schaffen wir im Elementarischen\, schaffen Raum für Erziehung\, Selbsterziehung. Wir wollen Erfahrungen austauschen\, Wahrnehmungsübungen machen\, viel Praktisches lernen und auch gemeinsam etwas reinigen. \n  \nhttps://lindathomas.org/wp-admin/post-new.php?post_type=tribe_events 
URL:https://schmetterling.lindathomas.org/event/ordnung-schaffen-reinigen-verwandeln-4/
LOCATION:Der Quellhof\, Wanderstraße 18\, Kirchberg/Jagst-Mistlau\, 74592\, Germany
CATEGORIES:Events_de
ATTACH;FMTTYPE=image/jpeg:https://schmetterling.lindathomas.org/wp-content/uploads/2022/02/download-2.jpeg
END:VEVENT
END:VCALENDAR