BEGIN:VCALENDAR
VERSION:2.0
PRODID:-//Linda Thomas - ECPv5.12.2//NONSGML v1.0//EN
CALSCALE:GREGORIAN
METHOD:PUBLISH
X-WR-CALNAME:Linda Thomas
X-ORIGINAL-URL:https://schmetterling.lindathomas.org
X-WR-CALDESC:Veranstaltungen für Linda Thomas
REFRESH-INTERVAL;VALUE=DURATION:PT1H
X-Robots-Tag:noindex
X-PUBLISHED-TTL:PT1H
BEGIN:VTIMEZONE
TZID:UTC
BEGIN:STANDARD
TZOFFSETFROM:+0000
TZOFFSETTO:+0000
TZNAME:UTC
DTSTART:20220101T000000
END:STANDARD
END:VTIMEZONE
BEGIN:VEVENT
DTSTART;TZID=UTC:20220504T193000
DTEND;TZID=UTC:20220505T160000
DTSTAMP:20260423T170943
CREATED:20220201T161013Z
LAST-MODIFIED:20220201T161820Z
UID:4824-1651692600-1651766400@schmetterling.lindathomas.org
SUMMARY:Vom Putzen und Pflegen
DESCRIPTION:Vortrag am Mittwochabend 4. Mai von 19.30 – 21.00 Uhr. \nInterne Weiterbildung: \nSeminar am Donnerstag 5.  Mai von 9.00 – 13.00 und 14.00 – 16.00 Uhr. \nBauckhof Stütensen e.V \nSozialtherapeuthische Gesellschaft \nStütensen 2 \nD-29571 Rosche \nhttps://www.bauckhof.de/
URL:https://schmetterling.lindathomas.org/event/vom-putzen-und-pflegen-4/
LOCATION:Bauckhof Stütensen\, Stütensen 2\, Rosche\, 29571\, Germany
CATEGORIES:Events_de
ATTACH;FMTTYPE=image/jpeg:https://schmetterling.lindathomas.org/wp-content/uploads/2022/02/Bauckhof.jpeg
END:VEVENT
END:VCALENDAR