BEGIN:VCALENDAR
VERSION:2.0
PRODID:-//Linda Thomas - ECPv5.12.2//NONSGML v1.0//EN
CALSCALE:GREGORIAN
METHOD:PUBLISH
X-WR-CALNAME:Linda Thomas
X-ORIGINAL-URL:https://schmetterling.lindathomas.org
X-WR-CALDESC:Veranstaltungen für Linda Thomas
REFRESH-INTERVAL;VALUE=DURATION:PT1H
X-Robots-Tag:noindex
X-PUBLISHED-TTL:PT1H
BEGIN:VTIMEZONE
TZID:UTC
BEGIN:STANDARD
TZOFFSETFROM:+0000
TZOFFSETTO:+0000
TZNAME:UTC
DTSTART:20220101T000000
END:STANDARD
END:VTIMEZONE
BEGIN:VEVENT
DTSTART;TZID=UTC:20221122T200000
DTEND;TZID=UTC:20221122T213000
DTSTAMP:20260423T093149
CREATED:20220201T163033Z
LAST-MODIFIED:20220201T163043Z
UID:4845-1669147200-1669152600@schmetterling.lindathomas.org
SUMMARY:"Nur Putzen?"
DESCRIPTION:Vortrag am 22. November 2022 um 20:00Uhr: Nur Putzen? \nVortrag innerhalb einer Tagung des Diakonischen \nWerkes Württemberg in Löwenstein bei Heilbronn \nhttp://www.diakonie-wuerttemberg.de/http://www.diakonie-wuerttemberg.de/
URL:https://schmetterling.lindathomas.org/event/nur-putzen/
CATEGORIES:Events_de
ATTACH;FMTTYPE=image/jpeg:https://schmetterling.lindathomas.org/wp-content/uploads/2022/02/csm_Lgst_Herbert-Keller-Haus_23ec49990c.jpeg
END:VEVENT
END:VCALENDAR